Workbook

Sheet 汇总表
A1: 固定资产评估申报汇总表
A2: 评估基准日：2019年10月25日
I3: 表4-6
A4: 被评估公司：长沙市第一医院（长沙市传染病医院、长沙市公共卫生救治中心） | I4: 金额单位：人民币元
A5: 编号 | B5: 科目名称 | C5: 台套 | D5: 账面价值 | H5: 评估价值 | J5: 增值金额
D6: 原值 | E6: 累计折旧 | F6: 减值准备 | G6: 净值 | H6: 原值 | I6: 净值
A7: 4-6-1 | B7: 房屋建筑物类 | C7: =#REF! -> #REF! | D7: =房屋建筑物!K15 -> 63158069 | E7: =房屋建筑物!L15 -> 9684417.9 | F7: =房屋建筑物!M15 -> 53473651 | G7: =房屋建筑物!M15 -> 53473651 | H7: =#REF! -> #REF! | I7: =房屋建筑物!N15 -> 258812.92 | J7: =I7-G7 -> -53214838
A8: 4-6-2 | B8: 设备类 | D8: =#REF! -> #REF! | E8: =#REF! -> #REF! | F8: =#REF! -> #REF! | G8: =#REF! -> #REF! | I8: =#REF! -> #REF! | J8: =I8-G8 -> #REF!
A11: 固定资产合计 | C11: =SUM(C7:C10) -> #REF! | D11: =D7+D8 -> #REF! | E11: =E7+E8 -> #REF! | F11: =F7+F8 -> #REF! | G11: =G7+G8 -> #REF! | H11: =H7+H8 -> #REF! | I11: =I7+I8 -> #REF! | J11: =J7+J8 -> #REF!
A12: 评估单位：湖南恒基资产评估有限公司 | I12: 评估人员：李力、欧光顺

Sheet 办公电子设备明细表1111
A1: 固定资产—办公电子设备评估申报明细表
A2: 评估基准日：2019年10月25日
S3: 表4-6-1
A4: 被评估公司：长沙市中医医院（长沙市第八医院） | T4: 金额单位：人民币元 | V4: 43604
A5: 序号 | B5: 报废单号 | C5: 财政资产编号 | E5: 卡片编号 | F5: 设备名称 | G5: 规格型号 | H5: 计量单位 | I5: 数量 | J5: 购置日期 | K5: 启用日期 | L5: 账面价值 | O5: 含税评估价值（残余价值） | R5: 评估单价（元/台） | S5: 增值金额 | T5: 增值率% | U5: 备注
L6: 原值 | M6: 累计折旧 | N6: 净值 | O6: 原值 | P6: 成新率% | Q6: 净值
A7: 728 | C7: 302013000000824 | D7: 302013000000824 | E7: 000014113 | F7: 自动毁形机（坏） | H7: 台 | I7: 1 | J7: 2001-01-01 | K7: 2001-01-01 | L7: 5300 | M7: 4416.6 | N7: =L7-M7 -> 883.4 | O7: 0 | Q7: =O7 -> 0 | R7: 0 | S7: =Q7-N7 -> -883 | U7: 已灭失
A8: 246 | C8: 302013000000923 | D8: 302013000000923 | E8: WSQYFDQ-01617 | F8: 智能点钞机 | H8: 台 | I8: 1 | J8: 2005-05-01 | K8: 2005-05-01 | L8: 2350 | M8: 1958.4 | N8: =L8-M8 -> 391.6 | O8: 7 | Q8: =O8 -> 7 | R8: 7 | S8: =Q8-N8 -> -385 | T8: =IF(N8=0,"",(Q8-N8)/(N8)) -> -0.9821
A9: 245 | C9: 302013000000924 | D9: 302013000000924 | E9: WSQYFDQ-01618 | F9: 智能点钞机 | H9: 台 | I9: 1 | J9: 2005-02-01 | K9: 2005-02-01 | L9: 2350 | M9: 1958.4 | N9: =L9-M9 -> 391.6 | O9: 7 | Q9: =O9 -> 7 | R9: 7 | S9: =Q9-N9 -> -385 | T9: =IF(N9=0,"",(Q9-N9)/(N9)) -> -0.9821
A10: 248 | C10: 302013000000925 | D10: 302013000000925 | E10: WSQYFDQ-01619 | F10: 智能点钞机 | H10: 台 | I10: 1 | J10: 2005-02-01 | K10: 2005-02-01 | L10: 2350 | M10: 1958.4 | N10: =L10-M10 -> 391.6 | O10: 7 | Q10: =O10 -> 7 | R10: 7 | S10: =Q10-N10 -> -385 | T10: =IF(N10=0,"",(Q10-N10)/(N10)) -> -0.9821
A11: 247 | C11: 302013000000926 | D11: 302013000000926 | E11: WSQYFDQ-01620 | F11: 智能点钞机 | H11: 台 | I11: 1 | J11: 2005-02-01 | K11: 2005-02-01 | L11: 2350 | M11: 1958.4 | N11: =L11-M11 -> 391.6 | O11: 7 | Q11: =O11 -> 7 | R11: 7 | S11: =Q11-N11 -> -385 | T11: =IF(N11=0,"",(Q11-N11)/(N11)) -> -0.9821
A12: 250 | C12: 302013000000927 | D12: 302013000000927 | E12: WSQYFDQ-01622 | F12: 智能点钞机 | H12: 台 | I12: 1 | J12: 2003-06-01 | K12: 2003-06-01 | L12: 3800 | M12: 3166.8 | N12: =L12-M12 -> 633.2 | O12: 7 | Q12: =O12 -> 7 | R12: 7 | S12: =Q12-N12 -> -626 | T12: =IF(N12=0,"",(Q12-N12)/(N12)) -> -0.9889
A13: 249 | C13: 302013000000928 | D13: 302013000000928 | E13: WSQYFDQ-01623 | F13: 智能点钞机 | H13: 台 | I13: 1 | J13: 2003-06-01 | K13: 2003-06-01 | L13: 3800 | M13: 3166.8 | N13: =L13-M13 -> 633.2 | O13: 7 | Q13: =O13 -> 7 | R13: 7 | S13: =Q13-N13 -> -626 | T13: =IF(N13=0,"",(Q13-N13)/(N13)) -> -0.9889
A14: 244 | C14: 302013000000929 | D14: 302013000000929 | E14: WSQYFDQ-01626 | F14: 智能点钞机 | H14: 台 | I14: 1 | J14: 2001-12-01 | K14: 2001-12-01 | L14: 4500 | M14: 3750 | N14: =L14-M14 -> 750 | O14: 7 | Q14: =O14 -> 7 | R14: 7 | S14: =Q14-N14 -> -743 | T14: =IF(N14=0,"",(Q14-N14)/(N14)) -> -0.9907
A15: 243 | C15: 302013000000930 | D15: 302013000000930 | E15: WSQYFDQ-01627 | F15: 智能点钞机 | H15: 台 | I15: 1 | J15: 2001-12-01 | K15: 2001-12-01 | L15: 4500 | M15: 3750 | N15: =L15-M15 -> 750 | O15: 7 | Q15: =O15 -> 7 | R15: 7 | S15: =Q15-N15 -> -743 | T15: =IF(N15=0,"",(Q15-N15)/(N15)) -> -0.9907
A16: 242 | C16: 302013000000931 | D16: 302013000000931 | E16: WSQYFDQ-01628 | F16: 智能点钞机 | H16: 台 | I16: 1 | J16: 2001-12-01 | K16: 2001-12-01 | L16: 4500 | M16: 3750 | N16: =L16-M16 -> 750 | O16: 7 | Q16: =O16 -> 7 | R16: 7 | S16: =Q16-N16 -> -743 | T16: =IF(N16=0,"",(Q16-N16)/(N16)) -> -0.9907
A17: 714 | C17: 302013000000994 | D17: 302013000000994 | E17: 000012270 | F17: 真皮沙发 | H17: 套 | I17: 1 | J17: 1999-01-01 | K17: 1999-01-01 | L17: 1600 | M17: 533.4 | N17: =L17-M17 -> 1066.6 | O17: 0 | Q17: =O17 -> 0 | R17: 0 | S17: =Q17-N17 -> -1067 | U17: 前期已处置
A18: 727 | C18: 302013000001004 | D18: 302013000001004 | E18: 000012043 | F18: 真空泵（坏） | H18: 台 | I18: 1 | J18: 2001-01-01 | K18: 2001-01-01 | L18: 4330 | M18: 4330 | N18: =L18-M18 -> 0 | O18: 0 | Q18: =O18 -> 0 | R18: 0 | S18: =Q18-N18 -> 0 | T18: =IF(N18=0,"",(Q18-N18)/(N18)) | U18: 已灭失
A19: 139 | C19: 302013000001010 | D19: 302013000001010 | E19: 000024160 | F19: 针式打印机 | H19: 台 | I19: 1 | J19: 2011-10-31 | K19: 2011-10-31 | L19: 1200 | M19: 1000.2 | N19: =L19-M19 -> 199.8 | O19: 35 | Q19: =O19 -> 35 | R19: 35 | S19: =Q19-N19 -> -165 | T19: =IF(N19=0,"",(Q19-N19)/(N19)) -> -0.8248
A20: 146 | C20: 302013000001011 | D20: 302013000001011 | E20: 000024053 | F20: 针式打印机 | H20: 台 | I20: 1 | J20: 2011-05-31 | K20: 2011-05-31 | L20: 1350 | M20: 1125 | N20: =L20-M20 -> 225 | O20: 35 | Q20: =O20 -> 35 | R20: 35 | S20: =Q20-N20 -> -190 | T20: =IF(N20=0,"",(Q20-N20)/(N20)) -> -0.8444
A21: 155 | C21: 302013000001019 | D21: 302013000001019 | E21: 000024024 | F21: 针式打印机 | H21: 台 | I21: 1 | J21: 2011-05-31 | K21: 2011-05-31 | L21: 1760 | M21: 1466.4 | N21: =L21-M21 -> 293.6 | O21: 35 | Q21: =O21 -> 35 | R21: 35 | S21: =Q21-N21 -> -259 | T21: =IF(N21=0,"",(Q21-N21)/(N21)) -> -0.8808
A22: 176 | C22: 302013000001027 | D22: 302013000001027 | E22: 000024044 | F22: 针式打印机 | H22: 台 | I22: 1 | J22: 2011-05-31 | K22: 2011-05-31 | L22: 1950 | M22: 1624.8 | N22: =L22-M22 -> 325.2 | O22: 35 | Q22: =O22 -> 35 | R22: 35 | S22: =Q22-N22 -> -290 | T22: =IF(N22=0,"",(Q22-N22)/(N22)) -> -0.8924
A23: 204 | C23: 302013000001035 | D23: 302013000001035 | E23: 000023637 | F23: 针式打印机 | H23: 台 | I23: 1 | J23: 2010-11-30 | K23: 2010-11-30 | L23: 2500 | M23: 2083.2 | N23: =L23-M23 -> 416.8 | O23: 35 | Q23: =O23 -> 35 | R23: 35 | S23: =Q23-N23 -> -382 | T23: =IF(N23=0,"",(Q23-N23)/(N23)) -> -0.916
A24: 205 | C24: 302013000001036 | D24: 302013000001036 | E24: 000023718 | F24: 针式打印机 | H24: 台 | I24: 1 | J24: 2010-12-31 | K24: 2010-12-31 | L24: 2500 | M24: 2083.2 | N24: =L24-M24 -> 416.8 | O24: 35 | Q24: =O24 -> 35 | R24: 35 | S24: =Q24-N24 -> -382 | T24: =IF(N24=0,"",(Q24-N24)/(N24)) -> -0.916
A25: 203 | C25: 302013000001037 | D25: 302013000001037 | E25: 000023635 | F25: 针式打印机 | H25: 台 | I25: 1 | J25: 2010-11-30 | K25: 2010-11-30 | L25: 2500 | M25: 2083.2 | N25: =L25-M25 -> 416.8 | O25: 35 | Q25: =O25 -> 35 | R25: 35 | S25: =Q25-N25 -> -382 | T25: =IF(N25=0,"",(Q25-N25)/(N25)) -> -0.916
A26: 202 | C26: 302013000001038 | D26: 302013000001038 | E26: 000023641 | F26: 针式打印机 | H26: 台 | I26: 1 | J26: 2010-11-30 | K26: 2010-11-30 | L26: 2500 | M26: 2083.2 | N26: =L26-M26 -> 416.8 | O26: 35 | Q26: =O26 -> 35 | R26: 35 | S26: =Q26-N26 -> -382 | T26: =IF(N26=0,"",(Q26-N26)/(N26)) -> -0.916
A27: 201 | C27: 302013000001039 | D27: 302013000001039 | E27: 000023640 | F27: 针式打印机 | H27: 台 | I27: 1 | J27: 2010-11-30 | K27: 2010-11-30 | L27: 2500 | M27: 2083.2 | N27: =L27-M27 -> 416.8 | O27: 35 | Q27: =O27 -> 35 | R27: 35 | S27: =Q27-N27 -> -382 | T27: =IF(N27=0,"",(Q27-N27)/(N27)) -> -0.916
A28: 214 | C28: 302013000001051 | D28: 302013000001051 | E28: 000023897 | F28: 针式打印机 | H28: 台 | I28: 1 | J28: 2011-03-31 | K28: 2011-03-31 | L28: 2860 | M28: 2383.2 | N28: =L28-M28 -> 476.8 | O28: 35 | Q28: =O28 -> 35 | R28: 35 | S28: =Q28-N28 -> -442 | T28: =IF(N28=0,"",(Q28-N28)/(N28)) -> -0.9266
A29: 213 | C29: 302013000001052 | D29: 302013000001052 | E29: 000023899 | F29: 针式打印机 | H29: 台 | I29: 1 | J29: 2011-03-31 | K29: 2011-03-31 | L29: 2860 | M29: 2383.2 | N29: =L29-M29 -> 476.8 | O29: 35 | Q29: =O29 -> 35 | R29: 35 | S29: =Q29-N29 -> -442 | T29: =IF(N29=0,"",(Q29-N29)/(N29)) -> -0.9266
A30: 215 | C30: 302013000001057 | D30: 302013000001057 | E30: 000024173 | F30: 针式打印机 | H30: 台 | I30: 1 | J30: 2011-10-31 | K30: 2011-10-31 | L30: 2900 | M30: 2416.8 | N30: =L30-M30 -> 483.2 | O30: 35 | Q30: =O30 -> 35 | R30: 35 | S30: =Q30-N30 -> -448 | T30: =IF(N30=0,"",(Q30-N30)/(N30)) -> -0.9276
A31: 633 | C31: 302013000001098 | D31: 302013000001098 | E31: 000012266 | F31: 圆形会议桌 | H31: 套 | I31: 1 | J31: 1999-01-01 | K31: 1999-01-01 | L31: 5300 | M31: 1766.4 | N31: =L31-M31 -> 3533.6 | O31: 0 | Q31: =O31 -> 0 | R31: 0 | S31: =Q31-N31 -> -3534 | T31: =IF(N31=0,"",(Q31-N31)/(N31)) -> -1
A32: 124 | C32: 302013000001201 | D32: 302013000001201 | E32: 000013209 | F32: 医保服务器（湘财金卫、中国惠普） | G32: 惠普 | H32: 台 | I32: 1 | J32: 2006-09-30 | K32: 2006-09-30 | L32: 34040.34 | M32: 28366.8 | N32: =L32-M32 -> 5673.54 | O32: 82 | Q32: =O32 -> 82 | R32: 82 | S32: =Q32-N32 -> -5592 | T32: =IF(N32=0,"",(Q32-N32)/(N32)) -> -0.9855
A33: 614 | C33: 302013000001494 | D33: 302013000001494 | E33: 000013068 | F33: 雪花冰箱（坏） | H33: 台 | I33: 1 | J33: 2001-01-01 | K33: 2001-01-01 | L33: 1550 | M33: 1550 | N33: =L33-M33 -> 0 | O33: 35 | Q33: =O33 -> 35 | R33: 30 | S33: =Q33-N33 -> 35 | T33: =IF(N33=0,"",(Q33-N33)/(N33))
A34: 640 | C34: 302013000001506 | D34: 302013000001813 | E34: 000019269 | F34: 星港床垫 | H34: 张 | I34: 1 | J34: 2007-07-01 | K34: 2007-07-01 | L34: 1420 | M34: 473.4 | N34: =L34-M34 -> 946.6 | O34: 0 | Q34: =O34 -> 0 | R34: 0 | S34: =Q34-N34 -> -947 | U34: 已灭失
A35: 628 | C35: 302013000001752 | D35: 302013000001850 | E35: 000020683 | F35: 相式胶片密集架 | H35: 套 | I35: 1 | J35: 2008-01-31 | K35: 2008-01-31 | L35: 62474.94 | M35: 20824.8 | N35: =L35-M35 -> 41650.14 | O35: 0 | Q35: =O35 -> 0 | R35: 0 | S35: =Q35-N35 -> -41650 | T35: =IF(N35=0,"",(Q35-N35)/(N35)) -> -1
A36: 723 | C36: 302013000001813 | D36: 302013000001875 | E36: 000012627 | F36: 洗手池 | H36: 套 | I36: 1 | J36: 2003-05-31 | K36: 2003-05-31 | L36: 14399 | M36: 14399 | N36: =L36-M36 -> 0 | O36: 10 | Q36: =O36 -> 10 | R36: 10 | S36: =Q36-N36 -> 10 | T36: =IF(N36=0,"",(Q36-N36)/(N36))
A37: 743 | C37: 302013000001850 | D37: 302013000001935 | E37: 000020522 | F37: 稳压电源 | H37: 套 | I37: 1 | J37: 2008-12-31 | K37: 2008-12-31 | L37: 19080 | M37: 15900 | N37: =L37-M37 -> 3180 | O37: 0 | Q37: =O37 -> 0 | R37: 0 | S37: =Q37-N37 -> -3180 | U37: 已灭失
A38: 87 | C38: 302013000001875 | D38: 302013000002058 | E38: WSQYFDQ-01444 | F38: 微机 | H38: 台 | I38: 1 | J38: 2005-10-01 | K38: 2005-10-01 | L38: 14100 | M38: 11749.8 | N38: =L38-M38 -> 2350.2 | O38: 82 | Q38: =O38 -> 82 | R38: 82 | S38: =Q38-N38 -> -2268 | T38: =IF(N38=0,"",(Q38-N38)/(N38)) -> -0.9651
A39: 98 | C39: 302013000001935 | D39: 302013000002059 | E39: 000024254 | F39: 台式机 | G39: 联想 | H39: 台 | I39: 1 | J39: 2012-01-01 | K39: 2012-01-01 | L39: 1250 | M39: 1041.6 | N39: =L39-M39 -> 208.4 | O39: 82 | Q39: =O39 -> 82 | R39: 82 | S39: =Q39-N39 -> -126 | T39: =IF(N39=0,"",(Q39-N39)/(N39)) -> -0.6065
A40: 741 | C40: 302013000002058 | D40: 302013000002201 | E40: 000013100 | F40: 双门冷柜（转食堂） | H40: 台 | I40: 1 | J40: 2004-08-31 | K40: 2004-08-31 | L40: 4800 | M40: 4800 | N40: =L40-M40 -> 0 | O40: 35 | Q40: =O40 -> 35 | R40: 30 | S40: =Q40-N40 -> 35 | T40: =IF(N40=0,"",(Q40-N40)/(N40))
...

Sheet 房屋建筑物
A1: 固定资产—房屋建筑物评估明细表
A2: 评估基准日：2021年03月30日
O3: 表4-6-1
A4: 被评估单位：长沙市第一医院（长沙市传染病医院、长沙市公共卫生救治中心） | N4: 金额单位：人民币元
A5: 序号 | B5: 财政资产编号 | C5: 卡片编号 | D5: 建筑物名称 | E5: 结构 | F5: 建成年月 | G5: 层数 | H5: 建筑面积（平方米） | I5: 启用日期 | J5: 入账日期 | K5: 账面价值 | N5: 评估价值 | O5: 备注
K6: 原值 | L6: 累计折旧 | M6: 净值 | N6: 净值 | Q6: 1
A7: 1 | B7: 302008000000660 | D7: 北院二病区二病室维修工程 | F7: 2015-06-29 | G7: 1 | I7: 2015-06-29 | J7: 2015-06-29 | K7: 314709.22 | L7: =K7-M7 -> 60319.11 | M7: 254390.11 | N7: 0 | O7: 与消化楼一起评估，改扩建、报废拆除 | Q7: =N7-O7 -> #VALUE! | R7: 1.323
A8: 2 | B8: 302008000000661 | D8: 北院CT,DR室装修工程拆除 | E8: 混合 | F8: 2015-06-29 | G8: 1 | H8: 350 | I8: 2015-06-29 | J8: 2015-06-29 | K8: 20502.62 | L8: =K8-M8 -> 3929.55 | M8: 16573.07 | N8: =350*17.53 -> 6135.5 | O8: 改扩建、报废拆除 | Q8: =N8-O8 -> #VALUE! | R8: 6.75
A9: 3 | B9: 302008000000662 | D9: 北院CT,DR室装修工程土建 | E9: 混合 | F9: 2015-06-29 | G9: 1 | I9: 2015-06-29 | J9: 2015-06-29 | K9: 299306.54 | L9: =K9-M9 -> 57367.29 | M9: 241939.25 | Q9: =N9-O9 -> 0
A10: 4 | B10: 302008000000663 | D10: 北院CT,DR室装修工程安装 | E10: 混合 | F10: 2015-06-29 | G10: 1 | I10: 2015-06-29 | J10: 2015-06-29 | K10: 272388.73 | L10: =K10-M10 -> 52207.99 | M10: 220180.74 | Q10: =N10-O10 -> 0
A11: 5 | B11: 302008000011776 | D11: 呼吸楼 | E11: 混合 | F11: 2016-08-31 | G11: 1-3/3 | H11: 2918 | I11: 2016-08-31 | J11: 2016-08-31 | K11: 20876534 | L11: =K11-M11 -> 3189470.4 | M11: 17687064 | N11: =H11*17.53 -> 51152.54
A12: 6 | B12: 302008000011777 | D12: 消化楼 | E12: 混合 | F12: 2016-08-31 | G12: 1-4/4 | H12: 4696 | I12: 2016-08-31 | J12: 2016-08-31 | K12: 17381333 | L12: =K12-M12 -> 2655481.4 | M12: 14725852 | N12: =H12*17.53 -> 82320.88 | S12: 17.53
A13: 7 | B13: 302008000011778 | D13: 生活楼 | E13: 混合 | F13: 2016-08-31 | G13: 1-4/4 | H13: 6800 | I13: 2016-08-31 | J13: 2016-08-31 | K13: 23993295 | L13: =K13-M13 -> 3665642.2 | M13: 20327653 | N13: =H13*17.53 -> 119204
A15: 合计 | G15: =SUM(G7:G14) -> 4 | H15: =SUM(H7:H14) -> 14764 | K15: =SUM(K7:K14) -> 63158069 | L15: =SUM(L7:L14) -> 9684417.9 | M15: =SUM(M7:M14) -> 53473651 | N15: =SUM(N7:N14) -> 258812.92 | Q15: =SUBTOTAL(9,Q6:Q14) -> #VALUE! | R15: =N15-O15 -> 258812.92
A16: 评估单位：湖南恒基资产评估有限公司 | K16: 评估人员：李力、欧光顺
H18: =0.8/0.9 -> 0.89
H20: =14000*0.8*0.75 -> 8400
H21: =H20*1.323*3 -> 33339.6
H22: =5400+5000+3000 -> 13400
H23: =H21-H22 -> 19939.6

Sheet 附件清单146项固定资产
A1: 附件清单：146项固定资产
A2: 产权持有人：长沙市排水有限责任公司 | N2: 金额单位：人民币元
A3: 序号 | B3: 设备编码 | C3: 设备名称 | D3: 使用单位 | E3: 规格型号 | F3: 状态 | G3: 计量单位 | H3: 数量 | I3: 购置日期 | J3: 启用日期 | K3: 账面价值 | M3: 评估价值 | N3: 备注
K4: 原值 | L4: 净值
A5: 1 | B5: 15020117000149 | C5: 台式电脑 | D5: 本部 | E5: 联想启天M4500 | F5: 到期报废 | G5: 台 | H5: 1 | I5: 42704 | J5: 42704 | K5: 3410.26 | L5: 136.41 | M5: 100
A6: 2 | B6: 15020116000318 | C6: 电脑 | D6: 本部 | E6: 扬天M4200F | F6: 到期报废 | G6: 台 | H6: 1 | I6: 42704 | J6: 42704 | K6: 3162.39 | L6: 126.5 | M6: 100
A7: 3 | B7: 15020116000290 | C7: 电脑 | D7: 本部 | E7: 联想M7300 | F7: 到期报废 | G7: 台 | H7: 1 | I7: 41152 | J7: 41152 | K7: 4100 | L7: 164 | M7: 100
A8: 4 | B8: 15020216000162 | C8: 复印打印机 | D8: 本部 | E8: HP 1108 | F8: 到期报废 | G8: 台 | H8: 1 | I8: 41912 | J8: 41912 | K8: 870 | L8: 34.8 | M8: 30
A9: 5 | B9: 15020118000048 | C9: 笔记本电脑 | D9: 本部 | E9: DELL | F9: 到期报废 | G9: 台 | H9: 1 | I9: 43190 | J9: 43190 | K9: 4273.5 | L9: 170.94 | M9: 100
A10: 6 | B10: 15020116000294 | C10: 笔记本电脑 | D10: 本部 | E10: 宏基笔记本电脑 | F10: 到期报废 | G10: 台 | H10: 1 | I10: 41362 | J10: 41362 | K10: 3952 | L10: 158.08 | M10: 100
A11: 7 | B11: 15020116000303 | C11: 笔记本电脑 | D11: 本部 | E11: N75YI267 | F11: 到期报废 | G11: 台 | H11: 1 | I11: 42216 | J11: 42216 | K11: 9300 | L11: 372 | M11: 100
A12: 8 | B12: 15020116000299 | C12: 电脑 | D12: 本部 | E12: 联想R4900 | F12: 到期报废 | G12: 台 | H12: 1 | I12: 41997 | J12: 41997 | K12: 3700 | L12: 148 | M12: 100
A13: 9 | B13: 15020116000309 | C13: 电脑 | D13: 本部 | E13: 联想M4200 | F13: 到期报废 | G13: 台 | H13: 1 | I13: 42395 | J13: 42395 | K13: 3162.39 | L13: 126.5 | M13: 100
A14: 10 | B14: 15020216000166 | C14: 复印打印机 | D14: 本部 | E14: hp p1108 | F14: 到期报废 | G14: 台 | H14: 1 | I14: 42212 | J14: 42212 | K14: 870 | L14: 34.8 | M14: 30
A15: 11 | B15: 15020116000510 | C15: 电脑 | D15: 本部 | E15: 启天M4500 | F15: 到期报废 | G15: 台 | H15: 1 | I15: 42642 | J15: 42642 | K15: 3376.07 | L15: 135.04 | M15: 100
A16: 12 | B16: 15020517000056 | C16: 尼康照相机 | D16: 本部 | E16: D7200 | F16: 到期报废 | G16: 台 | H16: 1 | I16: 43069 | J16: 43069 | K16: 8544.44 | L16: 341.78 | M16: 20
... A23: 19 | B23: 14020417000005 | C23: 手提式压力蒸汽灭菌器 | D23: 长善垸水质净化厂 | E23: YX-280D | F23: 到期报废 | G23: 台 | H23: 1 | I23: 43088 | J23: 43088 | K23: 6990.29 | L23: 279.61 | M23: 156
A24: 20 | B24: 15010116000166 | C24: 大圆桌 | D24: 长善垸水质净化厂 | E24: 常规 | F24: 到期报废 | G24: 台 | H24: 1 | I24: 42063 | J24: 42063 | K24: 1168 | L24: 0 | M24: 0 | N24: 木制
A25: 21 | B25: 14020417000001 | C25: 手提式压力蒸汽灭菌器 | D25: 长善垸水质净化厂 | E25: DSX-280KB30 | F25: 到期报废 | G25: 台 | H25: 1 | I25: 42734 | J25: 42734 | K25: 6990.29 | L25: 279.61 | M25: 156
A26: 22 | B26: 14010321000017 | C26: 氨氮检测仪 | D26: 长善垸水质净化厂 | E26: 2512212+AC0150004 | F26: 到期报废 | G26: 台 | H26: 1 | I26: 42704 | J26: 42704 | K26: 244608.88 | L26: 9784.36 | M26: 24
A27: 23 | B27: 14010321000018 | C27: 氨氮检测仪 | D27: 长善垸水质净化厂 | E27: 2512212+AC0150004 | F27: 到期报废 | G27: 台 | H27: 1 | I27: 42704 | J27: 42704 | K27: 244608.88 | L27: 9784.36 | M27: 24
A28: 24 | B28: 15030421000237 | C28: 格力空调14 | D28: 长善垸水质净化厂 | E28: KFR-120LW/5P | F28: 到期报废 | G28: 台 | H28: 1 | I28: 42704 | J28: 42704 | K28: 11480 | L28: 459.2 | M28: 1450
A29: 25 | B29: 15030416000747 | C29: 美的空调 | D29: 长善垸水质净化厂 | E29: 美的KFR-72LW/DY | F29: 到期报废 | G29: 台 | H29: 1 | I29: 42063 | J29: 42063 | K29: 6580 | L29: 263.2 | M29: 1450
A30: 26 | B30: 14010121000015 | C30: COD检测仪 | D30: 长善垸水质净化厂 | E30: 9302700+LCW420+CYQ-002B | F30: 到期报废 | G30: 台 | H30: 1 | I30: 42704 | J30: 42704 | K30: 239412.93 | L30: 9576.52 | M30: 11
A31: 27 | B31: 14011318000001 | C31: 数据采集器 | D31: 长善垸水质净化厂 | E31: QSC00002400 | F31: 到期报废 | G31: 台 | H31: 1 | I31: 43279 | J31: 43279 | K31: 10344.83 | L31: 413.79 | M31: 10
A32: 28 | B32: 02010121000272 | C32: 潜水排污泵7 | D32: 长善垸水质净化厂 | E32: Q=301L/s,H=22,N=90kw | F32: 提前报废 | G32: 台 | H32: 1 | I32: 42704 | J32: 42704 | K32: 120600.23 | L32: 21225.69 | M32: 144
A33: 29 | B33: 02010121000273 | C33: 潜水排污泵8 | D33: 长善垸水质净化厂 | E33: Q=301L/s,H=22,N=90kw | F33: 提前报废 | G33: 台 | H33: 1 | I33: 42704 | J33: 42704 | K33: 120600.23 | L33: 21225.69 | M33: 144
A34: 30 | B34: 09150117000004 | C34: 螺旋式砂水分离器-3 | D34: 花桥水质净化厂 | E34: SF320 | F34: 到期报废 | G34: 台 | H34: 1 | I34: 2011-01-01 | J34: 2011-01-01 | K34: 108865.93 | L34: 4354.64 | M34: 1640
A35: 31 | B35: 02010117000030 | C35: 螺旋叶轮潜水离心泵-2 | D35: 花桥水质净化厂 | E35: Q=309L/s,H=6m | F35: 到期报废 | G35: 台 | H35: 1 | I35: 2011-01-01 | J35: 2011-01-01 | K35: 371519.33 | L35: 14860.77 | M35: 1724
A36: 32 | B36: 09150119000003 | C36: 螺旋压榨机 | D36: 花桥水质净化厂 | E36: YCJ300 | F36: 到期报废 | G36: 台 | H36: 1 | I36: 2011-01-01 | J36: 2011-01-01 | K36: 82373.63 | L36: 3294.95 | M36: 2460
A37: 33 | B37: 15020219000001 | C37: 打印机 | D37: 花桥水质净化厂 | F37: 到期报废 | G37: 台 | H37: 1 | I37: 2011-01-01 | J37: 2011-01-01 | K37: 13039.75 | L37: 521.59 | M37: 300
A38: 34 | B38: 15020219000002 | C38: A3黑白激光打印机 | D38: 花桥水质净化厂 | F38: 到期报废 | G38: 台 | H38: 1 | I38: 2011-01-01 | J38: 2011-01-01 | K38: 13453.23 | L38: 538.13 | M38: 300
A39: 35 | B39: 15020217000034 | C39: 复印机 | D39: 花桥水质净化厂 | F39: 到期报废 | G39: 台 | H39: 1 | I39: 2015-07-21 | J39: 2015-07-21 | K39: 9990 | L39: 299.7 | M39: 120
A40: 36 | B40: 15030417000084 | C40: 柜机空调（脱水机房） | D40: 新开铺水质净化厂 | E40: KFR-72LW/E1(72568L1)AA1-N1 | F40: 到期报废 | G40: 台 | H40: 1 | I40: 40786 | J40: 40786 | K40: 6950 | L40: 208.5 | M40: 1450
A41: 37 | B41: 15020117000100 | C41: 台式电脑（财务） | D41: 新开铺水质净化厂 | E41: optiplex 330 | F41: 到期报废 | G41: 台 | H41: 1 | I41: 39994 | J41: 39994 | K41: 7688.63 | L41: 230.66 | M41: 100
A42: 38 | B42: 09031817000001 | C42: 兆欧表 | D42: 新开铺水质净化厂 | E42: 1508 | F42: 到期报废 | G42: 台 | H42: 1 | I42: 39994 | J42: 39994 | K42: 17052 | L42: 511.56 | M42: 1
A43: 39 | B43: 15030417000054 | C43: 柜机空调（二期1#配电间高压室） | D43: 新开铺水质净化厂 | E43: KFR-50LW | F43: 到期报废 | G43: 台 | H43: 1 | I43: 40056 | J43: 40056 | K43: 2800 | L43: 84 | M43: 900
A44: 40 | B44: 15020117000112 | C44: 笔记本电脑（202） | D44: 新开铺水质净化厂 | E44: Think Pad E455 | F44: 到期报废 | G44: 台 | H44: 1 | I44: 42276 | J44: 42276 | K44: 4680 | L44: 140.4 | M44: 100
A45: 41 | B45: 02020619000022 | C45: 玻璃钢屋顶风机1 | D45: 新开铺水质净化厂 | E45: WT35型风机7.1井 | F45: 到期报废 | G45: 台 | H45: 1 | I45: 40544 | J45: 40544 | K45: 6422.84 | L45: 256.91 | M45: 0 | N45: 塑料
A46: 42 | B46: 02020619000023 | C46: 玻璃钢屋顶风机2 | D46: 新开铺水质净化厂 | E46: WT35型风机7.1井 | F46: 到期报废 | G46: 台 | H46: 1 | I46: 40544 | J46: 40544 | K46: 6422.84 | L46: 256.91 | M46: 0 | N46: 塑料
...

Sheet Sheet4
E1: C型臂类型 落地式/直线式C型臂 控制方式 全电动控制/手动控制 C型臂绕体轴旋转 LAO120 - RAO120 C型臂沿体轴倾斜 CRAN50°～CAUD45° 绕天轴旋转旋转 +0°～‐30°（地面） C型臂*大旋转速度 25°/秒 C型臂纵向运动 170cm（C臂+床面） C型臂侧向运动 20cm（床面） SID 87.5-117.5cm 单手操作 控制杆 隔室操作 无 常用角度记忆 数字图像处理系统 AXIOM Artis 图像数据A/D转换 12bit 图像数据传输方式（摄像机*处理器） 模拟 单手控制床旁图像管理 床旁操作面板 图像数据采集 心脏采集模式 512x512, 8bit, 30fps DSA采集模式 1024x1024, 12bit, 0.5~7.5fps 临时图像数据存储 6,250 fr.@1024x1024 **图像数据存档 CD-R CD-R数据读取回主机 不能 实时三维同步减影DSA 无 实时三维旋转DSA 选购 下肢步进 DSA 选配 *压发生器 POLYDOROS IS 逆变频率 44kHz Imaging System 摄影系统 CCD100万像素 影像增强器 (英寸) 13/9/7/5 检查室显示器 18‘TFT 两台 （分辨率1280*1024 亮度 230cd/m2 ） 控制室显示器 *台 X线球管 MEGALIX 热容量 2,000,000 HU 焦点尺寸 mm 0.3/0.6/1.0 焦点、功率 0.3mm18kw,0.6mm52kw，1.0mm100kw 冷却类型 水冷 束光器 虹模型+方形+楔形滤片 智能束光器旋转 有 导管床 KOORDINAT-M 床面垂直升降 77~110cm 床面水平移动 纵向125cm，侧向35cm 床面水平旋转 120/120度 （选件？） *大承重 200Kg | G1: 德国西门子血管造影机介入治疗系统（DSA），具有采集速度快、图像清晰、可进行旋转DSA、步进跟踪造影等功能，利用高新技术在影像监视下进行全身各部位血管造影诊断、血管性疾病和非血管性疾病及肿瘤介入治疗等，具有创伤小、安全性高、痛苦小、恢复快等优点。适用于： 1.脑血管造影：用于诊断脑动脉瘤、脑动静脉畸形、颅内占位性病变、脑血管闭塞等造影、栓塞及支架植入。 2.四肢、头颈部血管造影：血管狭窄、闭塞的扩张成形和支架植入。 心血管系统的检查：冠状动脉造影术，冠状动脉支架植入术，永久起博安装术，先心病的房、室间隔缺损封堵术等。 3.胸腹部系统的检查：食管、气管、胆管狭窄支架植入术，肝癌、胰腺癌、膀胱癌、宫颈癌灌注化疗及栓塞治疗，肝脾血管瘤、子宫肌瘤栓塞治疗，椎体成形术等

Sheet Sheet3
A1: WNS4-1.0-Q燃气蒸汽锅炉主要技术参数解读 额定蒸发量：4t/h（每小时产生4吨蒸汽） 额定工作压力：1.0MPa（也就是10公斤压力，压力通常有0.7MPa1.00.7MPa、1.250.7MPa、1.60.7MPa、2.00.7MPa、2.50.7MPa） 热效率：92% 燃料消耗量：天然气317.2m³/h、液化气116m³/h、城市煤气674m³/h 锅炉尺寸：长5000mm、宽2230mm、高2580mm 烟囱直径：580mm 锅炉重量：10吨 蒸汽出口：100DN 锅炉耗电量：12KW | B1: WNS4-1.0-Q燃气蒸汽锅炉是指使用燃气作为燃料的卧式内燃室燃炉的蒸汽锅炉，它每小时可以生产出4吨蒸汽。 WNS4-1.0-Q是目前蒸汽锅炉的主流产品，它所燃烧的燃料可以是天然气、沼气、液化气、城市煤气，但通常使用最多的则是天然气，所以它可以成为天然气蒸汽锅炉。4吨燃气蒸汽锅炉具有高热效率、高智能化操作系统、节能环保、安全可靠等优势

Sheet Sheet2
A1: 固定资产—办公电子设备评估申报明细表
A2: 评估基准日：2019年10月28日
A4: 被评估公司：长沙市第八医院 | U4: 43604
A5: 序号 | B5: 报废单号 | C5: 财政资产编号 | D5: 卡片编号 | E5: 设备名称 | F5: 规格型号 | G5: 计量单位 | H5: 数量 | I5: 购置日期 | J5: 启用日期 | K5: 账面价值 | N5: 含税评估价值（残余价值） | Q5: 评估单价（元/台） | R5: 增值金额 | S5: 增值率% | T5: 备注
K6: 原值 | L6: 累计折旧 | M6: 净值 | N6: 原值 | O6: 成新率% | P6: 净值
A7: 1 | B7: 02-01701 | C7: 302013000005104 | D7: 000020587 | E7: 电脑 | G7: 台 | H7: 1 | I7: 2008-11-30 | J7: 2008-11-30 | K7: 1920 | L7: 1600.2 | M7: =K7-L7 -> 319.8 | N7: =H7*Q7 -> 35 | P7: =N7 -> 35 | Q7: 35 | R7: =P7-M7 -> -285 | S7: =IF(M7=0,"",(P7-M7)/(M7)) -> -0.8906
A8: 2 | B8: 02-01703 | C8: 302013000005109 | D8: 000020574 | E8: 电脑 | G8: 台 | H8: 1 | I8: 2008-06-30 | J8: 2008-06-30 | K8: 2250 | L8: 1875 | M8: =K8-L8 -> 375 | N8: =H8*Q8 -> 35 | P8: =N8 -> 35 | Q8: 35 | R8: =P8-M8 -> -340 | S8: =IF(M8=0,"",(P8-M8)/(M8)) -> -0.9067
A9: 3 | B9: 02-01705 | C9: 302013000005108 | D9: 000020573 | E9: 电脑 | G9: 台 | H9: 1 | I9: 2008-06-30 | J9: 2008-06-30 | K9: 2250 | L9: 1875 | M9: =K9-L9 -> 375 | N9: =H9*Q9 -> 35 | P9: =N9 -> 35 | Q9: 35 | R9: =P9-M9 -> -340 | S9: =IF(M9=0,"",(P9-M9)/(M9)) -> -0.9067
A10: 4 | C10: 302013000002991 | D10: 000020567 | E10: 联想电脑 | F10: 联想 | G10: 台 | H10: 1 | I10: 2008-03-31 | J10: 2008-03-31 | K10: 3980 | L10: 3316.8 | M10: =K10-L10 -> 663.2 | N10: =H10*Q10 -> 35 | P10: =N10 -> 35 | Q10: 35 | R10: =P10-M10 -> -628 | S10: =IF(M10=0,"",(P10-M10)/(M10)) -> -0.9472
A11: 5 | B11: 02-01706 | C11: 302013000005110 | D11: 000020577 | E11: 电脑 | G11: 台 | H11: 1 | I11: 2008-07-31 | J11: 2008-07-31 | K11: 2250 | L11: 1875 | M11: =K11-L11 -> 375 | N11: =H11*Q11 -> 35 | P11: =N11 -> 35 | Q11: 35 | R11: =P11-M11 -> -340 | S11: =IF(M11=0,"",(P11-M11)/(M11)) -> -0.9067
A12: 6 | B12: 02-01707 | C12: 302013000005120 | D12: 000024181 | E12: 电脑 | G12: 台 | H12: 1 | I12: 2011-10-31 | J12: 2011-10-31 | K12: 2700 | L12: 2250 | M12: =K12-L12 -> 450 | N12: =H12*Q12 -> 35 | P12: =N12 -> 35 | Q12: 35 | R12: =P12-M12 -> -415 | S12: =IF(M12=0,"",(P12-M12)/(M12)) -> -0.9222
A13: 7 | B13: 02-00497 | C13: 302013000005145 | D13: 000023570 | E13: 电脑 | G13: 台 | H13: 1 | I13: 2010-11-30 | J13: 2010-11-30 | K13: 3350 | L13: 2791.8 | M13: =K13-L13 -> 558.2 | N13: =H13*Q13 -> 35 | P13: =N13 -> 35 | Q13: 35 | R13: =P13-M13 -> -523 | S13: =IF(M13=0,"",(P13-M13)/(M13)) -> -0.9373
A14: 8 | B14: 02-02073 | C14: 302013000005144 | D14: 000023569 | E14: 电脑 | G14: 台 | H14: 1 | I14: 2010-11-30 | J14: 2010-11-30 | K14: 3350 | L14: 2791.8 | M14: =K14-L14 -> 558.2 | N14: =H14*Q14 -> 35 | P14: =N14 -> 35 | Q14: 35 | R14: =P14-M14 -> -523 | S14: =IF(M14=0,"",(P14-M14)/(M14)) -> -0.9373
A15: 9 | C15: 302013000005143 | D15: 000023568 | E15: 电脑 | G15: 台 | H15: 1 | I15: 2010-11-30 | J15: 2010-11-30 | K15: 3350 | L15: 2791.8 | M15: =K15-L15 -> 558.2 | N15: =H15*Q15 -> 35 | P15: =N15 -> 35 | Q15: 35 | R15: =P15-M15 -> -523 | S15: =IF(M15=0,"",(P15-M15)/(M15)) -> -0.9373
A16: 10 | C16: 3020132013000000034 | D16: wszyFBQ201300034 | E16: 电脑 | G16: 台 | H16: 1 | I16: 2013-01-31 | J16: 2013-01-31 | K16: 3450 | L16: 3450 | M16: =K16-L16 -> 0 | N16: =H16*Q16 -> 35 | P16: =N16 -> 35 | Q16: 35 | R16: =P16-M16 -> 35 | S16: =IF(M16=0,"",(P16-M16)/(M16))
A17: 11 | C17: 302013000005146 | D17: 000020566 | E17: 电脑 | G17: 台 | H17: 1 | I17: 2008-01-31 | J17: 2008-01-31 | K17: 3540 | L17: 2950.2 | M17: =K17-L17 -> 589.8 | N17: =H17*Q17 -> 35 | P17: =N17 -> 35 | Q17: 35 | R17: =P17-M17 -> -555 | S17: =IF(M17=0,"",(P17-M17)/(M17)) -> -0.9407
A18: 12 | C18: 302013000002942 | D18: 000018862 | E18: 联想电脑 | F18: 联想 | G18: 台 | H18: 1 | I18: 2007-12-30 | J18: 2007-12-30 | K18: 3570 | L18: 2974.8 | M18: =K18-L18 -> 595.2 | N18: =H18*Q18 -> 35 | P18: =N18 -> 35 | Q18: 35 | R18: =P18-M18 -> -560 | S18: =IF(M18=0,"",(P18-M18)/(M18)) -> -0.9412
A19: 13 | C19: 302013000002941 | D19: 000018859 | E19: 联想电脑 | F19: 联想 | G19: 台 | H19: 1 | I19: 2007-12-30 | J19: 2007-12-30 | K19: 3570 | L19: 2974.8 | M19: =K19-L19 -> 595.2 | N19: =H19*Q19 -> 35 | P19: =N19 -> 35 | Q19: 35 | R19: =P19-M19 -> -560 | S19: =IF(M19=0,"",(P19-M19)/(M19)) -> -0.9412
A20: 14 | C20: 302013000002940 | D20: 000018858 | E20: 联想电脑 | F20: 联想 | G20: 台 | H20: 1 | I20: 2007-12-30 | J20: 2007-12-30 | K20: 3570 | L20: 2974.8 | M20: =K20-L20 -> 595.2 | N20: =H20*Q20 -> 35 | P20: =N20 -> 35 | Q20: 35 | R20: =P20-M20 -> -560 | S20: =IF(M20=0,"",(P20-M20)/(M20)) -> -0.9412
A21: 15 | C21: 302013000002939 | D21: 000018857 | E21: 联想电脑 | F21: 联想 | G21: 台 | H21: 1 | I21: 2007-12-30 | J21: 2007-12-30 | K21: 3570 | L21: 2974.8 | M21: =K21-L21 -> 595.2 | N21: =H21*Q21 -> 35 | P21: =N21 -> 35 | Q21: 35 | R21: =P21-M21 -> -560 | S21: =IF(M21=0,"",(P21-M21)/(M21)) -> -0.9412
A22: 16 | C22: 302013000005163 | D22: 000024141 | E22: 电脑 | G22: 台 | H22: 1 | I22: 2011-08-31 | J22: 2011-08-31 | K22: 3600 | L22: 3000 | M22: =K22-L22 -> 600 | N22: =H22*Q22 -> 35 | P22: =N22 -> 35 | Q22: 35 | R22: =P22-M22 -> -565 | S22: =IF(M22=0,"",(P22-M22)/(M22)) -> -0.9417
A23: 17 | C23: 302013000002948 | D23: 000018841 | E23: 联想电脑 | F23: 联想 | G23: 台 | H23: 1 | I23: 2007-10-30 | J23: 2007-10-30 | K23: 3650 | L23: 3041.4 | M23: =K23-L23 -> 608.6 | N23: =H23*Q23 -> 35 | P23: =N23 -> 35 | Q23: 35 | R23: =P23-M23 -> -574 | S23: =IF(M23=0,"",(P23-M23)/(M23)) -> -0.9425
A24: 18 | C24: 302013000002893 | D24: 000020451 | E24: 联想电脑15寸液晶 | F24: 联想 | G24: 台 | H24: 1 | I24: 2008-05-31 | J24: 2008-05-31 | K24: 3680 | L24: 3066.6 | M24: =K24-L24 -> 613.4 | N24: =H24*Q24 -> 35 | P24: =N24 -> 35 | Q24: 35 | R24: =P24-M24 -> -578 | S24: =IF(M24=0,"",(P24-M24)/(M24)) -> -0.9429
A25: 19 | C25: 302013000002892 | D25: 000020450 | E25: 联想电脑15寸液晶 | F25: 联想 | G25: 台 | H25: 1 | I25: 2008-05-31 | J25: 2008-05-31 | K25: 3680 | L25: 3066.6 | M25: =K25-L25 -> 613.4 | N25: =H25*Q25 -> 35 | P25: =N25 -> 35 | Q25: 35 | R25: =P25-M25 -> -578 | S25: =IF(M25=0,"",(P25-M25)/(M25)) -> -0.9429
A26: 20 | C26: 302013000002891 | D26: 000020448 | E26: 联想电脑15寸液晶 | F26: 联想 | G26: 台 | H26: 1 | I26: 2008-05-31 | J26: 2008-05-31 | K26: 3680 | L26: 3066.6 | M26: =K26-L26 -> 613.4 | N26: =H26*Q26 -> 35 | P26: =N26 -> 35 | Q26: 35 | R26: =P26-M26 -> -578 | S26: =IF(M26=0,"",(P26-M26)/(M26)) -> -0.9429
A27: 21 | C27: 302013000005226 | D27: 000023565 | E27: 电脑 | G27: 台 | H27: 1 | I27: 2010-11-30 | J27: 2010-11-30 | K27: 3700 | L27: 3083.4 | M27: =K27-L27 -> 616.6 | N27: =H27*Q27 -> 35 | P27: =N27 -> 35 | Q27: 35 | R27: =P27-M27 -> -582 | S27: =IF(M27=0,"",(P27-M27)/(M27)) -> -0.9432
A28: 22 | C28: 302013000005223 | D28: 000023571 | E28: 电脑 | G28: 台 | H28: 1 | I28: 2010-11-30 | J28: 2010-11-30 | K28: 3700 | L28: 3083.4 | M28: =K28-L28 -> 616.6 | N28: =H28*Q28 -> 35 | P28: =N28 -> 35 | Q28: 35 | R28: =P28-M28 -> -582 | S28: =IF(M28=0,"",(P28-M28)/(M28)) -> -0.9432
A29: 23 | C29: 302013000005222 | D29: 000023579 | E29: 电脑 | G29: 台 | H29: 1 | I29: 2010-11-30 | J29: 2010-11-30 | K29: 3700 | L29: 3083.4 | M29: =K29-L29 -> 616.6 | N29: =H29*Q29 -> 35 | P29: =N29 -> 35 | Q29: 35 | R29: =P29-M29 -> -582 | S29: =IF(M29=0,"",(P29-M29)/(M29)) -> -0.9432
A30: 24 | C30: 302013000005221 | D30: 000023578 | E30: 电脑 | G30: 台 | H30: 1 | I30: 2010-11-30 | J30: 2010-11-30 | K30: 3700 | L30: 3083.4 | M30: =K30-L30 -> 616.6 | N30: =H30*Q30 -> 35 | P30: =N30 -> 35 | Q30: 35 | R30: =P30-M30 -> -582 | S30: =IF(M30=0,"",(P30-M30)/(M30)) -> -0.9432
A31: 25 | C31: 302013000005219 | D31: 000023620 | E31: 电脑 | G31: 台 | H31: 1 | I31: 2010-11-30 | J31: 2010-11-30 | K31: 3700 | L31: 3083.4 | M31: =K31-L31 -> 616.6 | N31: =H31*Q31 -> 35 | P31: =N31 -> 35 | Q31: 35 | R31: =P31-M31 -> -582 | S31: =IF(M31=0,"",(P31-M31)/(M31)) -> -0.9432
A32: 26 | C32: 302013000005218 | D32: 000023619 | E32: 电脑 | G32: 台 | H32: 1 | I32: 2010-11-30 | J32: 2010-11-30 | K32: 3700 | L32: 3083.4 | M32: =K32-L32 -> 616.6 | N32: =H32*Q32 -> 35 | P32: =N32 -> 35 | Q32: 35 | R32: =P32-M32 -> -582 | S32: =IF(M32=0,"",(P32-M32)/(M32)) -> -0.9432
A33: 27 | C33: 302013000005217 | D33: 000023618 | E33: 电脑 | G33: 台 | H33: 1 | I33: 2010-11-30 | J33: 2010-11-30 | K33: 3700 | L33: 3083.4 | M33: =K33-L33 -> 616.6 | N33: =H33*Q33 -> 35 | P33: =N33 -> 35 | Q33: 35 | R33: =P33-M33 -> -582 | S33: =IF(M33=0,"",(P33-M33)/(M33)) -> -0.9432
A34: 28 | C34: 302013000005216 | D34: 000023617 | E34: 电脑 | G34: 台 | H34: 1 | I34: 2010-11-30 | J34: 2010-11-30 | K34: 3700 | L34: 3083.4 | M34: =K34-L34 -> 616.6 | N34: =H34*Q34 -> 35 | P34: =N34 -> 35 | Q34: 35 | R34: =P34-M34 -> -582 | S34: =IF(M34=0,"",(P34-M34)/(M34)) -> -0.9432
A35: 29 | C35: 302013000005215 | D35: 000023616 | E35: 电脑 | G35: 台 | H35: 1 | I35: 2010-11-30 | J35: 2010-11-30 | K35: 3700 | L35: 3083.4 | M35: =K35-L35 -> 616.6 | N35: =H35*Q35 -> 35 | P35: =N35 -> 35 | Q35: 35 | R35: =P35-M35 -> -582 | S35: =IF(M35=0,"",(P35-M35)/(M35)) -> -0.9432
A36: 30 | C36: 302013000005214 | D36: 000023615 | E36: 电脑 | G36: 台 | H36: 1 | I36: 2010-11-30 | J36: 2010-11-30 | K36: 3700 | L36: 3083.4 | M36: =K36-L36 -> 616.6 | N36: =H36*Q36 -> 35 | P36: =N36 -> 35 | Q36: 35 | R36: =P36-M36 -> -582 | S36: =IF(M36=0,"",(P36-M36)/(M36)) -> -0.9432
A37: 31 | C37: 302013000005213 | D37: 000023631 | E37: 电脑 | G37: 台 | H37: 1 | I37: 2010-11-30 | J37: 2010-11-30 | K37: 3700 | L37: 3083.4 | M37: =K37-L37 -> 616.6 | N37: =H37*Q37 -> 35 | P37: =N37 -> 35 | Q37: 35 | R37: =P37-M37 -> -582 | S37: =IF(M37=0,"",(P37-M37)/(M37)) -> -0.9432
A38: 32 | C38: 302013000005212 | D38: 000023630 | E38: 电脑 | G38: 台 | H38: 1 | I38: 2010-11-30 | J38: 2010-11-30 | K38: 3700 | L38: 3083.4 | M38: =K38-L38 -> 616.6 | N38: =H38*Q38 -> 35 | P38: =N38 -> 35 | Q38: 35 | R38: =P38-M38 -> -582 | S38: =IF(M38=0,"",(P38-M38)/(M38)) -> -0.9432
A39: 33 | C39: 302013000005211 | D39: 000023629 | E39: 电脑 | G39: 台 | H39: 1 | I39: 2010-11-30 | J39: 2010-11-30 | K39: 3700 | L39: 3083.4 | M39: =K39-L39 -> 616.6 | N39: =H39*Q39 -> 35 | P39: =N39 -> 35 | Q39: 35 | R39: =P39-M39 -> -582 | S39: =IF(M39=0,"",(P39-M39)/(M39)) -> -0.9432
A40: 34 | C40: 302013000002965 | D40: 000020504 | E40: 联想电脑 | F40: 联想 | G40: 台 | H40: 1 | I40: 2008-10-31 | J40: 2008-10-31 | K40: 3700 | L40: 3083.4 | M40: =K40-L40 -> 616.6 | N40: =H40*Q40 -> 35 | P40: =N40 -> 35 | Q40: 35 | R40: =P40-M40 -> -582 | S40: =IF(M40=0,"",(P40-M40)/(M40)) -> -0.9432
A41: 35 | C41: 302013000002964 | D41: 000020488 | E41: 联想电脑 | F41: 联想 | G41: 台 | H41: 1 | I41: 2008-08-31 | J41: 2008-08-31 | K41: 3700 | L41: 3083.4 | M41: =K41-L41 -> 616.6 | N41: =H41*Q41 -> 35 | P41: =N41 -> 35 | Q41: 35 | R41: =P41-M41 -> -582 | S41: =IF(M41=0,"",(P41-M41)/(M41)) -> -0.9432
...

Sheet Sheet1
C13: 电脑类设备净值小计 | H13: 135 | K13: 2078441.5 | L13: 1654541.5 | M13: 423899.96 | N13: 4725 | P13: 4725 | R13: -419175 | S13: -98.8854
